BEGIN:VCALENDAR
VERSION:2.0
PRODID:-//Event-List//NONSGML Event-List 3.8.0//DE
CALSCALE:GREGORIAN
METHOD:PUBLISH
BEGIN:VEVENT
DTSTAMP:20260420T122702
DTSTART;VALUE=DATE:20130325
DTEND;VALUE=DATE:20130406
UID:20260420T122702@kampfsport-schwabmuenchen.de
SUMMARY:Osterferien
DESCRIPTION:Osterferien
END:VEVENT
END:VCALENDAR
