BEGIN:VCALENDAR
VERSION:2.0
PRODID:-//Event-List//NONSGML Event-List 3.8.0//DE
CALSCALE:GREGORIAN
METHOD:PUBLISH
BEGIN:VEVENT
DTSTAMP:20260420T085708
DTSTART;VALUE=DATE:20130521
DTEND;VALUE=DATE:20130531
UID:20260420T085708@kampfsport-schwabmuenchen.de
SUMMARY:Pfingstferien, kein Training
DESCRIPTION:Pfingstferien
END:VEVENT
END:VCALENDAR
