BEGIN:VCALENDAR
VERSION:2.0
PRODID:-//Event-List//NONSGML Event-List 3.8.0//DE
CALSCALE:GREGORIAN
METHOD:PUBLISH
BEGIN:VEVENT
DTSTAMP:20260420T031050
DTSTART;VALUE=DATE:20130731
DTEND;VALUE=DATE:20130911
UID:20260420T031050@kampfsport-schwabmuenchen.de
SUMMARY:Sommerferien
DESCRIPTION:Sommerferien
END:VEVENT
END:VCALENDAR
