BEGIN:VCALENDAR
VERSION:2.0
PRODID:-//Event-List//NONSGML Event-List 3.8.0//DE
CALSCALE:GREGORIAN
METHOD:PUBLISH
BEGIN:VEVENT
DTSTAMP:20260420T002246
DTSTART;VALUE=DATE:20131027
DTEND;VALUE=DATE:20131031
UID:20260420T002246@kampfsport-schwabmuenchen.de
SUMMARY:Herbstferien
DESCRIPTION:Herbstferien
END:VEVENT
END:VCALENDAR
