BEGIN:VCALENDAR
VERSION:2.0
PRODID:-//Event-List//NONSGML Event-List 3.8.0//DE
CALSCALE:GREGORIAN
METHOD:PUBLISH
BEGIN:VEVENT
DTSTAMP:20260419T214436
DTSTART;VALUE=DATE:20131223
DTEND;VALUE=DATE:20140105
UID:20260419T214436@kampfsport-schwabmuenchen.de
SUMMARY:Weihnachtsferien
DESCRIPTION:Weihnachtsferien
END:VEVENT
END:VCALENDAR
