BEGIN:VCALENDAR
VERSION:2.0
PRODID:-//Event-List//NONSGML Event-List 3.8.0//DE
CALSCALE:GREGORIAN
METHOD:PUBLISH
BEGIN:VEVENT
DTSTAMP:20260420T103700
DTSTART;VALUE=DATE:20130504
UID:20260420T103700@kampfsport-schwabmuenchen.de
SUMMARY:Training entfällt ---Trainer auf Fortbildung---
CONTACT:Thomas Heiss,0172-8935891
DESCRIPTION: 
CATEGORIES:Sondertraining
END:VEVENT
END:VCALENDAR
