BEGIN:VCALENDAR
VERSION:2.0
PRODID:-//Event-List//NONSGML Event-List 3.8.0//DE
CALSCALE:GREGORIAN
METHOD:PUBLISH
BEGIN:VEVENT
DTSTAMP:20260422T112012
DTSTART:20130509T000000
DTEND:20130509T000000
UID:20260422T112012@kampfsport-schwabmuenchen.de
SUMMARY:Christi Himmelfahrt
DESCRIPTION:Christi Himmelfahrt
END:VEVENT
END:VCALENDAR
