BEGIN:VCALENDAR
VERSION:2.0
PRODID:-//Event-List//NONSGML Event-List 3.8.0//DE
CALSCALE:GREGORIAN
METHOD:PUBLISH
BEGIN:VEVENT
DTSTAMP:20260420T013733
DTSTART;VALUE=DATE:20130930
UID:20260420T013733@kampfsport-schwabmuenchen.de
SUMMARY:ACHTUNG - KEIN Training - Training fällt aus
CONTACT:TSV Schwabmünchen Abteilung Taekwondo/Allkampf,Thomas Heiss,86830 Schwabmünchen,0172-8935891
LOCATION:Grundschulturnhalle Schwabmünchen,Zugang über die Holzheystrasse,86830 Schwabmünchen
DESCRIPTION:Training fällt auf wegen Michaeli-Markt und der daraus resultierenden
  Sperrung der Holzheystraße und dies somit sehr schlechte
  Erreichbarkeit der Halle.\nNächstes Taekwondo-Training für alle
  Meisterschaftsteilnehmer am Samstag den 05.10.2013 von 10 Uhr bis 11:15 Uhr
  in der LWS.\nFür alle anderen Sportler/innen nächstes
  Taekwondo-Training am Montag den 07.10.2013 zu gewohnter Zeit und Ort.
CATEGORIES:Training
END:VEVENT
END:VCALENDAR
