BEGIN:VCALENDAR
VERSION:2.0
PRODID:-//Event-List//NONSGML Event-List 3.8.0//DE
CALSCALE:GREGORIAN
METHOD:PUBLISH
BEGIN:VEVENT
DTSTAMP:20260420T122708
DTSTART:20130427T100000
UID:20260420T122708@kampfsport-schwabmuenchen.de
SUMMARY:7. Landkreismeisterschaft Allkampf-Jitsu
CONTACT:DAU - TSV Untermeitingen,Thomas Heiss
LOCATION:Sporthalle Untemeitigen, Hauptschulverband,Lechfelder Straße 55,Untermeitingen
DESCRIPTION:Landkreismeisterschaft Allkampf-Jitsu\nBeginn um 10:00, [U]Teilnehmer
  müssen um 9:00 erscheinen[/U] (Eintrag in Wettkampflisten, Wiegen
  für Allkampf-Fight)
CATEGORIES:Meisterschaften
END:VEVENT
END:VCALENDAR
