BEGIN:VCALENDAR
VERSION:2.0
PRODID:-//Event-List//NONSGML Event-List 3.8.0//DE
CALSCALE:GREGORIAN
METHOD:PUBLISH
BEGIN:VEVENT
DTSTAMP:20260420T103655
DTSTART;VALUE=DATE:20130518
UID:20260420T103655@kampfsport-schwabmuenchen.de
SUMMARY:Traditionelle Allkampfmeisterschaft in Tschechien, kein Training
CONTACT:Heiss Thomas
LOCATION:Budweis in Tschechien
DESCRIPTION:Traditionelle Allkampfmeisterschaft, nähere Angaben im Training
CATEGORIES:Meisterschaften
END:VEVENT
END:VCALENDAR
