BEGIN:VCALENDAR
VERSION:2.0
PRODID:-//Event-List//NONSGML Event-List 3.8.0//DE
CALSCALE:GREGORIAN
METHOD:PUBLISH
BEGIN:VEVENT
DTSTAMP:20260420T085709
DTSTART;VALUE=DATE:20130530
DTEND;VALUE=DATE:20130602
UID:20260420T085709@kampfsport-schwabmuenchen.de
SUMMARY:Hüttenwochenende in SÜDTIROL
LOCATION:Südtirol/Rodeneck
DESCRIPTION:Hüttenwochenende in SÜDTIROL
CATEGORIES:Sonstige
END:VEVENT
END:VCALENDAR
