BEGIN:VCALENDAR
VERSION:2.0
PRODID:-//Event-List//NONSGML Event-List 3.8.0//DE
CALSCALE:GREGORIAN
METHOD:PUBLISH
BEGIN:VEVENT
DTSTAMP:20260420T055527
DTSTART:20130706T090000
UID:20260420T055527@kampfsport-schwabmuenchen.de
SUMMARY:Budo-Lehrgang in Burgau
CONTACT:Budo Center Europa
DESCRIPTION:nähere Angaben im Training
CATEGORIES:Lehrgänge
END:VEVENT
END:VCALENDAR
