BEGIN:VCALENDAR
VERSION:2.0
PRODID:-//Event-List//NONSGML Event-List 3.8.0//DE
CALSCALE:GREGORIAN
METHOD:PUBLISH
BEGIN:VEVENT
DTSTAMP:20260420T125407
DTSTART:20130413T100000
DTEND:20130413T120000
UID:20260420T125407@kampfsport-schwabmuenchen.de
SUMMARY:Grundschulturnhalle !!! Training Prüfungsvorbereitung / Wettkampfriege
CONTACT:TSV Schwabmünchen Abteilung Taekwondo/Allkampf,Thomas Heiss,86830 Schwabmünchen,0172-8935891
LOCATION:Grundschulturnhalle,86830 Schwabmünchen
DESCRIPTION:Training Prüfungsvorbereitung / Wettkampfriege\nDas Samstagstraining
  endet für Allkämpfer bis Orangegurt um 11:15 Uhr, für
  Taekwondokas bis Grüngurt endet das Samstagstraining ebenfalls um
  11:15 Uhr.
CATEGORIES:Sondertraining
END:VEVENT
END:VCALENDAR
