BEGIN:VCALENDAR
VERSION:2.0
PRODID:-//Event-List//NONSGML Event-List 3.8.0//DE
CALSCALE:GREGORIAN
METHOD:PUBLISH
BEGIN:VEVENT
DTSTAMP:20260420T002132
DTSTART:20131109T080000
UID:20260420T002132@kampfsport-schwabmuenchen.de
SUMMARY:19. Offene Meisterschaft im traditionellen Teakwondo
CONTACT:Budo-Center Europa,Oliver Burkart/ Uwe Gürtler
LOCATION:Sport- und Festhalle Mergelstetten,Heinenbachstrasse,89522 Heidenheim
DESCRIPTION:8:00 - 9:00 Registrierung, ab 9:00 Meisterschaft
CATEGORIES:Meisterschaften
END:VEVENT
END:VCALENDAR
