BEGIN:VCALENDAR
VERSION:2.0
PRODID:-//Event-List//NONSGML Event-List 3.8.0//DE
CALSCALE:GREGORIAN
METHOD:PUBLISH
BEGIN:VEVENT
DTSTAMP:20260419T170549
DTSTART:20140405T100000
UID:20260419T170549@kampfsport-schwabmuenchen.de
SUMMARY:4. Bad Kissinger Kampfsport Open
CONTACT:Allkampf & Taekwondo Schule SV Garitz,Yves Engel,0971/6993677
LOCATION:Bayernhalle,Steinstraße,97688 Bad Kissingen
DESCRIPTION:Internationale Deutsche Meisterschaft der WKF 2014\n& Deutsches New
  Comer Turnier\n\nAuskunft und Anmeldung bei euern Trainern !!!
CATEGORIES:Meisterschaften
END:VEVENT
END:VCALENDAR
