BEGIN:VCALENDAR
VERSION:2.0
PRODID:-//Event-List//NONSGML Event-List 3.8.0//DE
CALSCALE:GREGORIAN
METHOD:PUBLISH
BEGIN:VEVENT
DTSTAMP:20260419T170549
DTSTART;VALUE=DATE:20140414
DTEND;VALUE=DATE:20140425
UID:20260419T170549@kampfsport-schwabmuenchen.de
SUMMARY:Osterferien
DESCRIPTION:Faschingsferien
END:VEVENT
END:VCALENDAR
