BEGIN:VCALENDAR
VERSION:2.0
PRODID:-//Event-List//NONSGML Event-List 3.8.0//DE
CALSCALE:GREGORIAN
METHOD:PUBLISH
BEGIN:VEVENT
DTSTAMP:20260419T135647
DTSTART;VALUE=DATE:20140610
DTEND;VALUE=DATE:20140620
UID:20260419T135647@kampfsport-schwabmuenchen.de
SUMMARY:Pfingstferien
DESCRIPTION:Faschingsferien
END:VEVENT
END:VCALENDAR
