BEGIN:VCALENDAR
VERSION:2.0
PRODID:-//Event-List//NONSGML Event-List 3.8.0//DE
CALSCALE:GREGORIAN
METHOD:PUBLISH
BEGIN:VEVENT
DTSTAMP:20260419T184604
DTSTART;VALUE=DATE:20140307
UID:20260419T184604@kampfsport-schwabmuenchen.de
SUMMARY:Sportlerehrung der Stadt und des TSV Schwabmünchen
CONTACT:Stadt/TSV Schwabmünchen
LOCATION:Stadthalle,Breitweg,Schwabmünchen
DESCRIPTION:Sportlerehrung der Stadt und des TSV Schwabmünchen
CATEGORIES:Sonstige
END:VEVENT
END:VCALENDAR
