BEGIN:VCALENDAR
VERSION:2.0
PRODID:-//Event-List//NONSGML Event-List 3.8.0//DE
CALSCALE:GREGORIAN
METHOD:PUBLISH
BEGIN:VEVENT
DTSTAMP:20260419T184604
DTSTART:20140326T170000
UID:20260419T184604@kampfsport-schwabmuenchen.de
SUMMARY:Sportlerehrung des Landkreisaugsburg
CONTACT:Landratsamt Augsburg
DESCRIPTION:30. Sportlerehrung durch den Landkreis Augsburg 
CATEGORIES:Sonstige
END:VEVENT
END:VCALENDAR
