BEGIN:VCALENDAR
VERSION:2.0
PRODID:-//Event-List//NONSGML Event-List 3.8.0//DE
CALSCALE:GREGORIAN
METHOD:PUBLISH
BEGIN:VEVENT
DTSTAMP:20260419T170523
DTSTART;VALUE=DATE:20140405
UID:20260419T170523@kampfsport-schwabmuenchen.de
SUMMARY:Frühlingslehrgang in Großaitingen
LOCATION:Großaitingen
DESCRIPTION:Frühlingslehrgang in Großaitingen
CATEGORIES:Lehrgänge
END:VEVENT
END:VCALENDAR
