BEGIN:VCALENDAR
VERSION:2.0
PRODID:-//Event-List//NONSGML Event-List 3.8.0//DE
CALSCALE:GREGORIAN
METHOD:PUBLISH
BEGIN:VEVENT
DTSTAMP:20260419T153022
DTSTART;VALUE=DATE:20140524
UID:20260419T153022@kampfsport-schwabmuenchen.de
SUMMARY:8. Landkreismeisterschaft Allkampf-Jitsu
CONTACT:DAU ,Thomas Heiss
LOCATION:Zusmarshausen
DESCRIPTION:Landkreismeisterschaft Allkampf-Jitsu traditionell und Kampf\nBeginn um
  10:00, [U]Teilnehmer müssen um 9:00 erscheinen[/U] (Eintrag in
  Wettkampflisten, Wiegen für Allkampf-Fight)
CATEGORIES:Meisterschaften
END:VEVENT
END:VCALENDAR
