BEGIN:VCALENDAR
VERSION:2.0
PRODID:-//Event-List//NONSGML Event-List 3.8.0//DE
CALSCALE:GREGORIAN
METHOD:PUBLISH
BEGIN:VEVENT
DTSTAMP:20260419T170549
DTSTART;VALUE=DATE:20140405
UID:20260419T170549@kampfsport-schwabmuenchen.de
SUMMARY:30 Jahre  TG Höchberg
CONTACT:Rudi Grasser,Thomas Heiss
LOCATION:Höchberg/Unterfranken
DESCRIPTION:30 Jahre  TG Höchberg
CATEGORIES:Lehrgänge
END:VEVENT
END:VCALENDAR
