BEGIN:VCALENDAR
VERSION:2.0
PRODID:-//Event-List//NONSGML Event-List 3.8.0//DE
CALSCALE:GREGORIAN
METHOD:PUBLISH
BEGIN:VEVENT
DTSTAMP:20260419T153023
DTSTART;VALUE=DATE:20140503
UID:20260419T153023@kampfsport-schwabmuenchen.de
SUMMARY:Jahreshauptversammlung der Dau
DESCRIPTION:Jahreshauptversammlung der Dau
CATEGORIES:Sonstige
END:VEVENT
END:VCALENDAR
