BEGIN:VCALENDAR
VERSION:2.0
PRODID:-//Event-List//NONSGML Event-List 3.8.0//DE
CALSCALE:GREGORIAN
METHOD:PUBLISH
BEGIN:VEVENT
DTSTAMP:20260419T170522
DTSTART:20140415T183000
DTEND:20140415T210000
UID:20260419T170522@kampfsport-schwabmuenchen.de
SUMMARY:Allkampf  und Taekwondo
CONTACT:TSV Schwabmünchen Abteilung Taekwondo/Allkampf,Thomas Heiss,86830 Schwabmünchen,0172-8935891
LOCATION:Leonhard Wagner Sporthalle (LWS) Schwabmünchen (Gymnastikraum der Dreifachturnhallen im 1 OG),Breitweg,86830 Schwabmünchen
DESCRIPTION:in den Osterferien findet das Training für ALLE (Allkampf und
  Taekwondo) am Dienstag den 15.04. und 22.04. von 18:30 bis 21 Uhr im
  Gymnastikraum der LWS statt. Die jüngeren Sportler/innen können
  bereits um 20 Uhr
  gehen.\n[IMG]http://www.kampfsport-schwabmuenchen.de/grafiken/anfahrt1.jpg[/IMG]
  
CATEGORIES:Training
END:VEVENT
END:VCALENDAR
