BEGIN:VCALENDAR
VERSION:2.0
PRODID:-//Event-List//NONSGML Event-List 3.8.0//DE
CALSCALE:GREGORIAN
METHOD:PUBLISH
BEGIN:VEVENT
DTSTAMP:20260419T153023
DTSTART;VALUE=DATE:20140517
UID:20260419T153023@kampfsport-schwabmuenchen.de
SUMMARY:Meisterschaft in Giebelstadt
CONTACT:DAU ,Thomas Heiss
LOCATION:Mehrzweckhalle,Am Sportplatz 4,97232 Giebelstadt
DESCRIPTION:Meisterschaft in Gibelstadt
CATEGORIES:Meisterschaften
END:VEVENT
END:VCALENDAR
