BEGIN:VCALENDAR
VERSION:2.0
PRODID:-//Event-List//NONSGML Event-List 3.8.0//DE
CALSCALE:GREGORIAN
METHOD:PUBLISH
BEGIN:VEVENT
DTSTAMP:20260422T110505
DTSTART:20150711T150000
UID:20260422T110505@kampfsport-schwabmuenchen.de
SUMMARY:Grillfest der Abteilung
CONTACT:Abteilung Taekwondo/Allkampf
LOCATION:Freien Evangelischen Gemeinde, Robert-Bosch-Str. 10,Schwabmünchen
DESCRIPTION:Grillfest Abteilung Taekwondo/Allkampf
CATEGORIES:Sonstige
END:VEVENT
END:VCALENDAR
