BEGIN:VCALENDAR
VERSION:2.0
PRODID:-//Event-List//NONSGML Event-List 3.8.0//DE
CALSCALE:GREGORIAN
METHOD:PUBLISH
BEGIN:VEVENT
DTSTAMP:20260422T180715
DTSTART:20101106T140000
UID:20260422T180715@kampfsport-schwabmuenchen.de
SUMMARY:Budo Sonder- u. Themen Lehrgang
CONTACT:Budocenter Europa
LOCATION:Sportschule Schöfer, Zeppelinstr. 16,89331 Burgau
DESCRIPTION:Allkampf Formen-, Kombinationen-,\nund Freikampflehrgang
CATEGORIES:Lehrgänge
END:VEVENT
END:VCALENDAR
