BEGIN:VCALENDAR
VERSION:2.0
PRODID:-//Event-List//NONSGML Event-List 3.8.0//DE
CALSCALE:GREGORIAN
METHOD:PUBLISH
BEGIN:VEVENT
DTSTAMP:20260422T180715
DTSTART;VALUE=DATE:20101113
UID:20260422T180715@kampfsport-schwabmuenchen.de
SUMMARY:Allkampf-Jitsu Fight Meisterschaft
CONTACT:DAU, Deutsche Allkampf Union
LOCATION:Miesbach
DESCRIPTION:Allkampf-Jitsu Fight Meisterschaft\nLänderkampf Deutschland -
  Tschechien in Miesbach
CATEGORIES:Meisterschaften
END:VEVENT
END:VCALENDAR
