BEGIN:VCALENDAR
VERSION:2.0
PRODID:-//Event-List//NONSGML Event-List 3.8.0//DE
CALSCALE:GREGORIAN
METHOD:PUBLISH
BEGIN:VEVENT
DTSTAMP:20260422T182049
DTSTART;VALUE=DATE:20101102
DTEND;VALUE=DATE:20101105
UID:20260422T182049@kampfsport-schwabmuenchen.de
SUMMARY:Herbstferien
DESCRIPTION:Herbstferien
END:VEVENT
END:VCALENDAR
