BEGIN:VCALENDAR
VERSION:2.0
PRODID:-//Event-List//NONSGML Event-List 3.8.0//DE
CALSCALE:GREGORIAN
METHOD:PUBLISH
BEGIN:VEVENT
DTSTAMP:20260422T151236
DTSTART;VALUE=DATE:20101227
DTEND;VALUE=DATE:20110107
UID:20260422T151236@kampfsport-schwabmuenchen.de
SUMMARY:Weihnachtsferien
DESCRIPTION:Weihnachtsferien
END:VEVENT
END:VCALENDAR
