BEGIN:VCALENDAR
VERSION:2.0
PRODID:-//Event-List//NONSGML Event-List 3.8.0//DE
CALSCALE:GREGORIAN
METHOD:PUBLISH
BEGIN:VEVENT
DTSTAMP:20260422T151233
DTSTART:20110326T090000
UID:20260422T151233@kampfsport-schwabmuenchen.de
SUMMARY:Farb-.  und Schwarzgurtprüfung
CONTACT:DAU -TSV Schwabmünchen
LOCATION:LWS Turnhallen Schwabmünchen,Breitweg,Schwabmünchen
DESCRIPTION:[B]Farbgurtprüfung[/B]\n\nSollten sich Prüfungsort oder Zeit
  ändern, wird dies rechtzeitig bekannt gegeben.\n[B]Sonstiges:[/B]
  \nDie Teilnahme an Lehrgängen, Prüfungen und Wettkämpfen
  erfolgt auf eigene Gefahr. Für Schäden oder Folgeschäden
  haftet grundsätzlich der Veranstalter nicht. Die Teilnahme an den
  Gürtelprüfungen setzt gewisse Qualifikationen voraus, die
  ebenfalls beim Trainer zu erfragen
  sind.\n[IMG]http://www.kampfsport-schwabmuenchen.de/anfahrt/image002.jpg[/IMG]
  
CATEGORIES:Prüfungstermine
END:VEVENT
END:VCALENDAR
