BEGIN:VCALENDAR
VERSION:2.0
PRODID:-//Event-List//NONSGML Event-List 3.8.0//DE
CALSCALE:GREGORIAN
METHOD:PUBLISH
BEGIN:VEVENT
DTSTAMP:20260422T180716
DTSTART:20101106T100000
DTEND:20101106T120000
UID:20260422T180716@kampfsport-schwabmuenchen.de
SUMMARY:Training Prüfungsvorbereitung / Wettkampfriege
CONTACT:TSV Schwabmünchen Abteilung Taekwondo/Allkampf,Thomas Heiss,86830 Schwabmünchen,0172-8935891
LOCATION:Grundschulturnhalle Spiegelsaal,86830 Schwabmünchen
DESCRIPTION:[B]Ausnahmsweise in der Grundschulturnhalle[/B] \nTraining
  Prüfungsvorbereitung / Wettkampfriege\nDas Samstagstraining endet
  für Allkämpfer bis Orangegurt um 11:15 Uhr, für Taekwondokas
  bis Grüngurt endet das Samstagstraining ebenfalls um 11:15 Uhr.
  \n[IMG]http://www.kampfsport-schwabmuenchen.de/grafiken/anfahrt1.jpg[/IMG] 
CATEGORIES:Sondertraining
END:VEVENT
END:VCALENDAR
