BEGIN:VCALENDAR
VERSION:2.0
PRODID:-//Event-List//NONSGML Event-List 3.8.0//DE
CALSCALE:GREGORIAN
METHOD:PUBLISH
BEGIN:VEVENT
DTSTAMP:20260422T182049
DTSTART:20101104T183000
DTEND:20101104T200000
UID:20260422T182049@kampfsport-schwabmuenchen.de
SUMMARY:Taekwondo Kinder / Jugend 7 - 14 Jahre - Fortgeschrittene
CONTACT:TSV Schwabmünchen Abteilung Taekwondo/Allkampf,Thomas Heiss,86830 Schwabmünchen,0172-8935891
LOCATION:Grundschulturnhalle Spiegelsaal,Breitweg,86830 Schwabmünchen
DESCRIPTION:Training Taekwondo für ab 14
  Jahre[IMG]http://www.kampfsport-schwabmuenchen.de/grafiken/anfahrt1.jpg[/IMG]
  
CATEGORIES:Training
END:VEVENT
END:VCALENDAR
