BEGIN:VCALENDAR
VERSION:2.0
PRODID:-//Event-List//NONSGML Event-List 3.8.0//DE
CALSCALE:GREGORIAN
METHOD:PUBLISH
BEGIN:VEVENT
DTSTAMP:20260422T151306
DTSTART;VALUE=DATE:20110418
DTEND;VALUE=DATE:20110430
UID:20260422T151306@kampfsport-schwabmuenchen.de
SUMMARY:Osterferien
DESCRIPTION:[B]Ferien - Training nur nach Absprache oder Sondertraining[/B] 
END:VEVENT
END:VCALENDAR
