BEGIN:VCALENDAR
VERSION:2.0
PRODID:-//Event-List//NONSGML Event-List 3.8.0//DE
CALSCALE:GREGORIAN
METHOD:PUBLISH
BEGIN:VEVENT
DTSTAMP:20260422T164147
DTSTART:20110414T200000
DTEND:20110414T213000
UID:20260422T164147@kampfsport-schwabmuenchen.de
SUMMARY:Training fällt  wegen der Deligiertenversammlung aus
CONTACT:TSV Schwabmünchen Abteilung Taekwondo/Allkampf,Thomas Heiss,86830 Schwabmünchen,0172-8935891
LOCATION:Leonhard Wagner Sporthalle (LWS) Schwabmünchen (Gymnastikraum der Dreifachturnhallen im 1 OG),Breitweg,86830 Schwabmünchen
DESCRIPTION:Training fällt  wegen der Deligiertenversammlung aus
CATEGORIES:Training
END:VEVENT
END:VCALENDAR
