BEGIN:VCALENDAR
VERSION:2.0
PRODID:-//Event-List//NONSGML Event-List 3.8.0//DE
CALSCALE:GREGORIAN
METHOD:PUBLISH
BEGIN:VEVENT
DTSTAMP:20260422T151311
DTSTART:20110528T100000
DTEND:20110528T120000
UID:20260422T151311@kampfsport-schwabmuenchen.de
SUMMARY:Training fällt aus !!!!
CONTACT:TSV Schwabmünchen Abteilung Taekwondo/Allkampf,Thomas Heiss,86830 Schwabmünchen,0172-8935891
LOCATION:Leonhard Wagner Sporthalle (LWS) Schwabmünchen (Gymnastikraum der Dreifachturnhallen im 1 OG),Breitweg,86830 Schwabmünchen
DESCRIPTION:Training fällt aus !!!!
CATEGORIES:Sondertraining
END:VEVENT
END:VCALENDAR
