BEGIN:VCALENDAR
VERSION:2.0
PRODID:-//Event-List//NONSGML Event-List 3.8.0//DE
CALSCALE:GREGORIAN
METHOD:PUBLISH
BEGIN:VEVENT
DTSTAMP:20260422T151224
DTSTART:20111105T100000
DTEND:20111105T120000
UID:20260422T151224@kampfsport-schwabmuenchen.de
SUMMARY:Kein Training die LWS-Hallen sind gesperrt
CONTACT:86830 Schwabmünchen,0172-8935891
DESCRIPTION:Training Prüfungsvorbereitung / Wettkampfriege\nDas Samstagstraining
  endet für Allkämpfer bis Orangegurt um 11:15 Uhr, für
  Taekwondokas bis Grüngurt endet das Samstagstraining ebenfalls um
  11:15 Uhr.
  \n[IMG]http://www.kampfsport-schwabmuenchen.de/grafiken/anfahrt1.jpg[/IMG] 
CATEGORIES:Sondertraining
END:VEVENT
END:VCALENDAR
