BEGIN:VCALENDAR
VERSION:2.0
PRODID:-//Event-List//NONSGML Event-List 3.8.0//DE
CALSCALE:GREGORIAN
METHOD:PUBLISH
BEGIN:VEVENT
DTSTAMP:20260422T151224
DTSTART:20110414T183000
UID:20260422T151224@kampfsport-schwabmuenchen.de
SUMMARY:Delegiertenversammlung
CONTACT:TSV Schwabmünchen
LOCATION:Stadthalle,86830 Schwabmünchen
DESCRIPTION:Delegiertenversammlung
CATEGORIES:Sonstige
END:VEVENT
END:VCALENDAR
