BEGIN:VCALENDAR
VERSION:2.0
PRODID:-//Event-List//NONSGML Event-List 3.8.0//DE
CALSCALE:GREGORIAN
METHOD:PUBLISH
BEGIN:VEVENT
DTSTAMP:20260422T151308
DTSTART;VALUE=DATE:20110305
UID:20260422T151308@kampfsport-schwabmuenchen.de
SUMMARY:Schalengge Rennen Pfronten-Kappel
CONTACT:Kappeler Schalengger Verein e.V.
DESCRIPTION:Schalengge Rennen Pfronten-Kappel
CATEGORIES:Sonstige
END:VEVENT
END:VCALENDAR
