BEGIN:VCALENDAR
VERSION:2.0
PRODID:-//Event-List//NONSGML Event-List 3.8.0//DE
CALSCALE:GREGORIAN
METHOD:PUBLISH
BEGIN:VEVENT
DTSTAMP:20260422T151231
DTSTART:20110318T190000
UID:20260422T151231@kampfsport-schwabmuenchen.de
SUMMARY:Sportlerehrung des Stadt und des TSV Schwabmünchen
CONTACT:Stadt und TSV Schwabmünchen
LOCATION:Stadthalle Schwabmünchen,Breitweg 16,86830 Schwabmünchen
DESCRIPTION:Sportlerehrung der Stadt und des TSV Schwabmünchen für alle
  Sportler/innen welche im Jahr 2010 sportliche Erfolge (ab mindestens
  dritter Platz Bayerische Ebene) erzielen konnten
CATEGORIES:Sonstige
END:VEVENT
END:VCALENDAR
