BEGIN:VCALENDAR
VERSION:2.0
PRODID:-//Event-List//NONSGML Event-List 3.8.0//DE
CALSCALE:GREGORIAN
METHOD:PUBLISH
BEGIN:VEVENT
DTSTAMP:20260422T151233
DTSTART:20110319T090000
UID:20260422T151233@kampfsport-schwabmuenchen.de
SUMMARY:Budo-Lehrgang in Burgau
LOCATION:Sportschule Schöfer
DESCRIPTION:nähere Angaben im Training
CATEGORIES:Lehrgänge
END:VEVENT
END:VCALENDAR
