BEGIN:VCALENDAR
VERSION:2.0
PRODID:-//Event-List//NONSGML Event-List 3.8.0//DE
CALSCALE:GREGORIAN
METHOD:PUBLISH
BEGIN:VEVENT
DTSTAMP:20260422T151226
DTSTART;VALUE=DATE:20110430
UID:20260422T151226@kampfsport-schwabmuenchen.de
SUMMARY:Allkampf-Kampfturnier 5. Shinbudo-Games der ISA in Prag
CONTACT:ISA
LOCATION:Prag
DESCRIPTION:näheres im Training
CATEGORIES:Meisterschaften
END:VEVENT
END:VCALENDAR
