BEGIN:VCALENDAR
VERSION:2.0
PRODID:-//Event-List//NONSGML Event-List 3.8.0//DE
CALSCALE:GREGORIAN
METHOD:PUBLISH
BEGIN:VEVENT
DTSTAMP:20260422T164148
DTSTART:20110504T183000
UID:20260422T164148@kampfsport-schwabmuenchen.de
SUMMARY:Landkreis-Sportlerehrung im LA Augsburg
CONTACT:Landkreis Augsburg
DESCRIPTION:Landkreis-Sportlerehrung im LA Augsburg
CATEGORIES:Sonstige
END:VEVENT
END:VCALENDAR
