BEGIN:VCALENDAR
VERSION:2.0
PRODID:-//Event-List//NONSGML Event-List 3.8.0//DE
CALSCALE:GREGORIAN
METHOD:PUBLISH
BEGIN:VEVENT
DTSTAMP:20260422T151235
DTSTART;VALUE=DATE:20110521
UID:20260422T151235@kampfsport-schwabmuenchen.de
SUMMARY:Deutschland-Cup der ETF in Zierenberg bei Kassel
CONTACT:ETF
LOCATION:Zierenberg
DESCRIPTION:näheres im Training
CATEGORIES:Meisterschaften
END:VEVENT
END:VCALENDAR
