BEGIN:VCALENDAR
VERSION:2.0
PRODID:-//Event-List//NONSGML Event-List 3.8.0//DE
CALSCALE:GREGORIAN
METHOD:PUBLISH
BEGIN:VEVENT
DTSTAMP:20260422T151226
DTSTART;VALUE=DATE:20110528
UID:20260422T151226@kampfsport-schwabmuenchen.de
SUMMARY:Traditionelle Allkampf-Meisterschaft 
LOCATION:Bad Kissingen
DESCRIPTION:näheres im Training
CATEGORIES:Meisterschaften
END:VEVENT
END:VCALENDAR
