BEGIN:VCALENDAR
VERSION:2.0
PRODID:-//Event-List//NONSGML Event-List 3.8.0//DE
CALSCALE:GREGORIAN
METHOD:PUBLISH
BEGIN:VEVENT
DTSTAMP:20260422T151235
DTSTART;VALUE=DATE:20110825
DTEND;VALUE=DATE:20110829
UID:20260422T151235@kampfsport-schwabmuenchen.de
SUMMARY:Ju-Jutsu Cup in Split / Kroatien (Kampf und traditionell);
LOCATION:Kroatien/Split
DESCRIPTION:näheres im Training
CATEGORIES:Meisterschaften
END:VEVENT
END:VCALENDAR
