BEGIN:VCALENDAR
VERSION:2.0
PRODID:-//Event-List//NONSGML Event-List 3.8.0//DE
CALSCALE:GREGORIAN
METHOD:PUBLISH
BEGIN:VEVENT
DTSTAMP:20260422T151233
DTSTART;VALUE=DATE:20111022
UID:20260422T151233@kampfsport-schwabmuenchen.de
SUMMARY:Allkampf-Jitsu Fight Meisterschaft
CONTACT:DAU, Deutsche Allkampf Union
LOCATION:Pilsen/Tschechien;
DESCRIPTION:Allkampf-Jitsu Fight Meisterschaft\nLänderkampf Deutschland -
  Tschechien Pilsen/Tschechien;
CATEGORIES:Meisterschaften
END:VEVENT
END:VCALENDAR
