BEGIN:VCALENDAR
VERSION:2.0
PRODID:-//Event-List//NONSGML Event-List 3.8.0//DE
CALSCALE:GREGORIAN
METHOD:PUBLISH
BEGIN:VEVENT
DTSTAMP:20260422T151305
DTSTART;VALUE=DATE:20110528
UID:20260422T151305@kampfsport-schwabmuenchen.de
SUMMARY:Kampfsport Open
CONTACT:Yves Engel
LOCATION:Bad Kissingen
DESCRIPTION:nähere Informationen im Training
CATEGORIES:Meisterschaften
END:VEVENT
END:VCALENDAR
