BEGIN:VCALENDAR
VERSION:2.0
PRODID:-//Event-List//NONSGML Event-List 3.8.0//DE
CALSCALE:GREGORIAN
METHOD:PUBLISH
BEGIN:VEVENT
DTSTAMP:20260422T151304
DTSTART:20110426T183000
DTEND:20110426T200000
UID:20260422T151304@kampfsport-schwabmuenchen.de
SUMMARY:Ferientraining Zusammenlegung Kinder und Erwachsenentraining
CONTACT:TSV Schwabmünchen Abteilung Taekwondo/Allkampf,Thomas Heiss,86830 Schwabmünchen,0172-8935891
LOCATION:Leonhard Wagner Sporthalle (LWS) Schwabmünchen (Gymnastikraum der Dreifachturnhallen im 1 OG),Breitweg,86830 Schwabmünchen
DESCRIPTION:Ferientraining Zusammenlegung Kinder und
  Erwachsenentraining\n[IMG]http://www.kampfsport-schwabmuenchen.de/grafiken/anfahrt1.jpg[/IMG]
  
CATEGORIES:Training
END:VEVENT
END:VCALENDAR
