BEGIN:VCALENDAR
VERSION:2.0
PRODID:-//Event-List//NONSGML Event-List 3.8.0//DE
CALSCALE:GREGORIAN
METHOD:PUBLISH
BEGIN:VEVENT
DTSTAMP:20260422T151307
DTSTART:20111101T183000
DTEND:20111101T213000
UID:20260422T151307@kampfsport-schwabmuenchen.de
SUMMARY:Kein Training die LWS-Hallen sind gesperrt
CONTACT:86830 Schwabmünchen,0172-8935891
LOCATION:Breitweg,86830 Schwabmünchen
DESCRIPTION:Training Taekwondo für ab 14
  Jahre[IMG]http://www.kampfsport-schwabmuenchen.de/grafiken/anfahrt1.jpg[/IMG]
  
CATEGORIES:Sondertraining
END:VEVENT
END:VCALENDAR
